BEGIN:VCALENDAR
VERSION:2.0
PRODID:www.gruene-fraktion-nordkirchen.de
METHOD:PUBLISH
BEGIN:VTIMEZONE
TZID:Europe/Berlin
X-LIC-LOCATION:Europe/Berlin
BEGIN:DAYLIGHT
TZOFFSETFROM:+0100
TZOFFSETTO:+0200
TZNAME:CEST
DTSTART:19700329T020000
RRULE:FREQ=YEARLY;INTERVAL=1;BYDAY=-1SU;BYMONTH=3
END:DAYLIGHT
BEGIN:STANDARD
TZOFFSETFROM:+0200
TZOFFSETTO:+0100
TZNAME:CET
DTSTART:19701025T030000
RRULE:FREQ=YEARLY;INTERVAL=1;BYDAY=-1SU;BYMONTH=10
END:STANDARD
END:VTIMEZONE
BEGIN:VEVENT
UID:95f8fbd210bc7455d14e3313c3f3ea20@www.gruene-fraktion-nordkirchen.de
URL;VALUE=URI:https://www.gruene-fraktion-nordkirchen.de/termine/haupt-un
 d-finanzausschuss-2/
LOCATION:Bürgerhaus
SUMMARY:Haupt- und Finanzausschuss
DESCRIPTION;ALTREP="data:text/html,":
CLASS:PUBLIC
DTSTART;TZID=Europe/Berlin:20251216T173000
DTEND;TZID=Europe/Berlin:20251216T183000
DTSTAMP:20260419T145940
END:VEVENT
END:VCALENDAR